BEGIN:VCALENDAR
VERSION:2.0
PRODID:-//Norwegian Microsoft 365 Community - ECPv6.15.20//NONSGML v1.0//EN
CALSCALE:GREGORIAN
METHOD:PUBLISH
X-WR-CALNAME:Norwegian Microsoft 365 Community
X-ORIGINAL-URL:https://m365c.no
X-WR-CALDESC:Arrangement for Norwegian Microsoft 365 Community
REFRESH-INTERVAL;VALUE=DURATION:PT1H
X-Robots-Tag:noindex
X-PUBLISHED-TTL:PT1H
BEGIN:VTIMEZONE
TZID:Europe/Oslo
BEGIN:DAYLIGHT
TZOFFSETFROM:+0100
TZOFFSETTO:+0200
TZNAME:CEST
DTSTART:20250330T010000
END:DAYLIGHT
BEGIN:STANDARD
TZOFFSETFROM:+0200
TZOFFSETTO:+0100
TZNAME:CET
DTSTART:20251026T010000
END:STANDARD
BEGIN:DAYLIGHT
TZOFFSETFROM:+0100
TZOFFSETTO:+0200
TZNAME:CEST
DTSTART:20260329T010000
END:DAYLIGHT
BEGIN:STANDARD
TZOFFSETFROM:+0200
TZOFFSETTO:+0100
TZNAME:CET
DTSTART:20261025T010000
END:STANDARD
BEGIN:DAYLIGHT
TZOFFSETFROM:+0100
TZOFFSETTO:+0200
TZNAME:CEST
DTSTART:20270328T010000
END:DAYLIGHT
BEGIN:STANDARD
TZOFFSETFROM:+0200
TZOFFSETTO:+0100
TZNAME:CET
DTSTART:20271031T010000
END:STANDARD
END:VTIMEZONE
BEGIN:VEVENT
DTSTART;TZID=Europe/Oslo:20260421T163000
DTEND;TZID=Europe/Oslo:20260421T190000
DTSTAMP:20260420T043352
CREATED:20260417T064840Z
LAST-MODIFIED:20260417T064840Z
UID:729-1776789000-1776798000@m365c.no
SUMMARY:Power Platform Meetup med NMTC Team Østfold [In-person]
DESCRIPTION:Velkommen til Meetup med Norwegian Microsoft Tech Community (NMTC) Team Østfold \nTemaet denne gangen er Power Platform!\nFørst hørte vi «Power Platform is dead» og så i høst ble det «Power Platform is Reborn». Det skjer utrolig mye om dagen\, og plattformen har endret retning med Code Apps\, Generative Pages\, Vibe Power Apps. Bli med denne kvelden for å bli bedre kjent med den nye Power Platform. Du vil også få høre mer om orkestrering av agenter og Agent Swarms\, samt en liten oppdatering fra det Ulrikke KAN fortelle fra MVP Summit. \nTirsdag 21. April kl. 16:30 i Loungen hos Itera Fredrikstad (Storgata 3\, 1607 Fredrikstad) \nFaglig innhold:\n– Vibe Coding i Power Platform med Stig Ark\n– Orchestrators & Agent swarms med Morten Sørby\n– Power Platform in the new world med Ulrikke Akerbæk \nDørene åpner klokken 16:30\, og det serveres pizza og brus før det faglige starter 😊 \nVennligst registrer deg så snart som mulig\, slik at vi kan planlegge mat\, drikke og romstørrelse. Og\, hvis du har registrert deg og plutselig ikke kan delta\, vennligst gi oss beskjed så snart som mulig. \nLink til påmelding \nHjertelig velkommen! 😊 \n/Ulrikke og Magnus
URL:https://m365c.no/event/power-platform-meetup-med-nmtc-team-ostfold-in-person/
LOCATION:Storgata 3\, 1607 Fredrikstad\, Storgata 3\, Fredrikstad\, 1607\, Norway
CATEGORIES:Østfold
ATTACH;FMTTYPE=image/png:https://m365c.no/wp-content/uploads/sites/17/2026/04/NMTC-Header.png
END:VEVENT
END:VCALENDAR